BEGIN:VCALENDAR
VERSION:2.0
PRODID:-//Main Street Wadsworth - ECPv6.15.20//NONSGML v1.0//EN
CALSCALE:GREGORIAN
METHOD:PUBLISH
X-ORIGINAL-URL:https://mainstreetwadsworth.org
X-WR-CALDESC:Events for Main Street Wadsworth
REFRESH-INTERVAL;VALUE=DURATION:PT1H
X-Robots-Tag:noindex
X-PUBLISHED-TTL:PT1H
BEGIN:VTIMEZONE
TZID:America/New_York
BEGIN:DAYLIGHT
TZOFFSETFROM:-0500
TZOFFSETTO:-0400
TZNAME:EDT
DTSTART:20220313T070000
END:DAYLIGHT
BEGIN:STANDARD
TZOFFSETFROM:-0400
TZOFFSETTO:-0500
TZNAME:EST
DTSTART:20221106T060000
END:STANDARD
BEGIN:DAYLIGHT
TZOFFSETFROM:-0500
TZOFFSETTO:-0400
TZNAME:EDT
DTSTART:20230312T070000
END:DAYLIGHT
BEGIN:STANDARD
TZOFFSETFROM:-0400
TZOFFSETTO:-0500
TZNAME:EST
DTSTART:20231105T060000
END:STANDARD
BEGIN:DAYLIGHT
TZOFFSETFROM:-0500
TZOFFSETTO:-0400
TZNAME:EDT
DTSTART:20240310T070000
END:DAYLIGHT
BEGIN:STANDARD
TZOFFSETFROM:-0400
TZOFFSETTO:-0500
TZNAME:EST
DTSTART:20241103T060000
END:STANDARD
BEGIN:DAYLIGHT
TZOFFSETFROM:-0500
TZOFFSETTO:-0400
TZNAME:EDT
DTSTART:20250309T070000
END:DAYLIGHT
BEGIN:STANDARD
TZOFFSETFROM:-0400
TZOFFSETTO:-0500
TZNAME:EST
DTSTART:20251102T060000
END:STANDARD
END:VTIMEZONE
BEGIN:VEVENT
DTSTART;TZID=America/New_York:20240928T090000
DTEND;TZID=America/New_York:20240928T120000
DTSTAMP:20260423T153433
CREATED:20240723T220458Z
LAST-MODIFIED:20240723T220501Z
UID:173720-1727514000-1727524800@mainstreetwadsworth.org
SUMMARY:Main Street Wadsworth Farmers Market
DESCRIPTION:The Farmers Market season will run every Saturday\, June 15 – September 28\, 9:00 a.m. to noon. Enjoy locally grown\, made\, and produced items. Always fresh. Always brought to market by our talented and dedicated vendors.
URL:https://mainstreetwadsworth.org/event/main-street-wadsworth-farmers-market-25/
LOCATION:MSW Farmers Market\, 151 Main Street\, Wadsworth\, Ohio\, 44281\, United States
ORGANIZER;CN="Main Street Wadsworth":MAILTO:mharvey@mainstreetwadsworth.org
END:VEVENT
BEGIN:VEVENT
DTSTART;TZID=America/New_York:20240924T120000
DTEND;TZID=America/New_York:20240924T130000
DTSTAMP:20260423T153433
CREATED:20240723T212645Z
LAST-MODIFIED:20240723T212648Z
UID:173665-1727179200-1727182800@mainstreetwadsworth.org
SUMMARY:Main Street Wadsworth September Organization Committee Meeting
DESCRIPTION:Main Street Wadsworth September Organization Committee MeetingTuesday\, September 24\, 2024 at 12:00 p.m.https://us02web.zoom.us/j/86418584653 \n\n\n\nMain Street Wadsworth monthly organization committee meetings are open to the public. We invite the community to get involved in our mission to create an unmatched downtown experience by volunteering for events or for one of our Four-Point Teams: Design\, Economic Vitality\, Promotion\, and Organization. \n\n\n\nLearn more: www.mainstreetwadsworth.org 
URL:https://mainstreetwadsworth.org/event/main-street-wadsworth-september-organization-committee-meeting/
LOCATION:OH
ORGANIZER;CN="Main Street Wadsworth":MAILTO:mharvey@mainstreetwadsworth.org
END:VEVENT
BEGIN:VEVENT
DTSTART;TZID=America/New_York:20240923T150000
DTEND;TZID=America/New_York:20240923T160000
DTSTAMP:20260423T153433
CREATED:20240723T212459Z
LAST-MODIFIED:20240723T212516Z
UID:173663-1727103600-1727107200@mainstreetwadsworth.org
SUMMARY:Main Street Wadsworth September Economic Vitality Committee Meeting
DESCRIPTION:Main Street Wadsworth September Economic Vitality Committee MeetingMonday\, September 23\, 2024 at 3:00 p.m. \n\n\n\nMain Street Wadsworth monthly economic vitality committee meetings are open to the public. We invite the community to get involved in our mission to create an unmatched downtown experience by volunteering for events or for one of our Four-Point Teams: Design\, Economic Vitality\, Promotion\, and Organization. \n\n\n\nLearn more: www.mainstreetwadsworth.org
URL:https://mainstreetwadsworth.org/event/main-street-wadsworth-september-economic-vitality-committee-meeting/
LOCATION:Main Street Wadsworth\, 102 Main Street\, Suite 20\, Wadsworth\, OH\, 44281\, United States
ORGANIZER;CN="Main Street Wadsworth":MAILTO:mharvey@mainstreetwadsworth.org
END:VEVENT
BEGIN:VEVENT
DTSTART;TZID=America/New_York:20240921T090000
DTEND;TZID=America/New_York:20240921T120000
DTSTAMP:20260423T153433
CREATED:20240723T220402Z
LAST-MODIFIED:20240723T220405Z
UID:173718-1726909200-1726920000@mainstreetwadsworth.org
SUMMARY:Main Street Wadsworth Farmers Market
DESCRIPTION:The Farmers Market season will run every Saturday\, June 15 – September 28\, 9:00 a.m. to noon. Enjoy locally grown\, made\, and produced items. Always fresh. Always brought to market by our talented and dedicated vendors.
URL:https://mainstreetwadsworth.org/event/main-street-wadsworth-farmers-market-24/
LOCATION:MSW Farmers Market\, 151 Main Street\, Wadsworth\, Ohio\, 44281\, United States
ORGANIZER;CN="Main Street Wadsworth":MAILTO:mharvey@mainstreetwadsworth.org
END:VEVENT
BEGIN:VEVENT
DTSTART;TZID=America/New_York:20240914T090000
DTEND;TZID=America/New_York:20240914T120000
DTSTAMP:20260423T153433
CREATED:20240723T220312Z
LAST-MODIFIED:20240723T220317Z
UID:173716-1726304400-1726315200@mainstreetwadsworth.org
SUMMARY:Main Street Wadsworth Farmers Market
DESCRIPTION:The Farmers Market season will run every Saturday\, June 15 – September 28\, 9:00 a.m. to noon. Enjoy locally grown\, made\, and produced items. Always fresh. Always brought to market by our talented and dedicated vendors.
URL:https://mainstreetwadsworth.org/event/main-street-wadsworth-farmers-market-23/
LOCATION:MSW Farmers Market\, 151 Main Street\, Wadsworth\, Ohio\, 44281\, United States
ORGANIZER;CN="Main Street Wadsworth":MAILTO:mharvey@mainstreetwadsworth.org
END:VEVENT
BEGIN:VEVENT
DTSTART;TZID=America/New_York:20240910T120000
DTEND;TZID=America/New_York:20240910T130000
DTSTAMP:20260423T153433
CREATED:20240723T212346Z
LAST-MODIFIED:20240723T212349Z
UID:173661-1725969600-1725973200@mainstreetwadsworth.org
SUMMARY:Main Street Wadsworth September Board of Directors Meeting
DESCRIPTION:Main Street Wadsworth September Board of Directors MeetingTuesday\, September 10\, 2024 at 12:00 p.m. \n\n\n\nMain Street Wadsworth monthly Board of Directors meetings are open to the public. We invite the community to get involved in our mission to create an unmatched downtown experience by volunteering for events or for one of our Four-Point Teams: Design\, Economic Vitality\, Promotion\, and Organization. \n\n\n\nLearn more: www.mainstreetwadsworth.org
URL:https://mainstreetwadsworth.org/event/main-street-wadsworth-september-board-of-directors-meeting/
LOCATION:Main Street Wadsworth\, 102 Main Street\, Suite 20\, Wadsworth\, OH\, 44281\, United States
ORGANIZER;CN="Main Street Wadsworth":MAILTO:mharvey@mainstreetwadsworth.org
END:VEVENT
BEGIN:VEVENT
DTSTART;TZID=America/New_York:20240907T090000
DTEND;TZID=America/New_York:20240907T120000
DTSTAMP:20260423T153433
CREATED:20240723T220220Z
LAST-MODIFIED:20240723T220223Z
UID:173714-1725699600-1725710400@mainstreetwadsworth.org
SUMMARY:Main Street Wadsworth Farmers Market
DESCRIPTION:The Farmers Market season will run every Saturday\, June 15 – September 28\, 9:00 a.m. to noon. Enjoy locally grown\, made\, and produced items. Always fresh. Always brought to market by our talented and dedicated vendors.
URL:https://mainstreetwadsworth.org/event/main-street-wadsworth-farmers-market-22/
LOCATION:MSW Farmers Market\, 151 Main Street\, Wadsworth\, Ohio\, 44281\, United States
ORGANIZER;CN="Main Street Wadsworth":MAILTO:mharvey@mainstreetwadsworth.org
END:VEVENT
BEGIN:VEVENT
DTSTART;TZID=America/New_York:20240906T173000
DTEND;TZID=America/New_York:20240906T200000
DTSTAMP:20260423T153433
CREATED:20240723T220646Z
LAST-MODIFIED:20240723T220650Z
UID:173722-1725643800-1725652800@mainstreetwadsworth.org
SUMMARY:September First Friday: Rivalry Game - Grizzlies Bears vs. Medina Bees
DESCRIPTION:
URL:https://mainstreetwadsworth.org/event/september-first-friday-rivalry-game-grizzlies-bears-vs-medina-bees/
LOCATION:Main Street Wadsworth\, 102 Main Street\, Suite 20\, Wadsworth\, OH\, 44281\, United States
ORGANIZER;CN="Main Street Wadsworth":MAILTO:mharvey@mainstreetwadsworth.org
END:VEVENT
BEGIN:VEVENT
DTSTART;TZID=America/New_York:20240904T120000
DTEND;TZID=America/New_York:20240904T130000
DTSTAMP:20260423T153433
CREATED:20240723T212239Z
LAST-MODIFIED:20240723T212242Z
UID:173659-1725451200-1725454800@mainstreetwadsworth.org
SUMMARY:Main Street Wadsworth September Promotion Committee Meeting
DESCRIPTION:Main Street Wadsworth September Promotion Committee MeetingWednesday\, September 4\, 2024 at 12:00 p.m. \n\n\n\nMain Street Wadsworth monthly promotions committee meetings are open to the public. We invite the community to get involved in our mission to create an unmatched downtown experience by volunteering for events or for one of our Four-Point Teams: Design\, Economic Vitality\, Promotion\, and Organization. \n\n\n\nLearn more: www.mainstreetwadsworth.org 
URL:https://mainstreetwadsworth.org/event/main-street-wadsworth-september-promotion-committee-meeting/
LOCATION:Main Street Wadsworth\, 102 Main Street\, Suite 20\, Wadsworth\, OH\, 44281\, United States
ORGANIZER;CN="Main Street Wadsworth":MAILTO:mharvey@mainstreetwadsworth.org
END:VEVENT
BEGIN:VEVENT
DTSTART;TZID=America/New_York:20240903T120000
DTEND;TZID=America/New_York:20240903T130000
DTSTAMP:20260423T153433
CREATED:20240723T212123Z
LAST-MODIFIED:20240723T212133Z
UID:173657-1725364800-1725368400@mainstreetwadsworth.org
SUMMARY:Main Street Wadsworth September Design Committee Meeting
DESCRIPTION:Main Street Wadsworth September Design Committee MeetingTuesday\, September 3\, 2024 at 12:00 p.m.Main Street Wadsworth\, 102 Main St. Ste. 20\, Wadsworth\, OH 44281 \n\n\n\nMain Street Wadsworth monthly design committee meetings are open to the public. Downtown meeting locations are subject to change and Zoom options are available upon request. We invite the community to get involved in our mission to create an unmatched downtown experience by volunteering for events or for one of our Four-Point Teams: Design\, Economic Vitality\, Promotion\, and Organization. \n\n\n\nLearn more: www.mainstreetwadsworth.org
URL:https://mainstreetwadsworth.org/event/main-street-wadsworth-september-design-committee-meeting/
LOCATION:Main Street Wadsworth\, 102 Main Street\, Suite 20\, Wadsworth\, OH\, 44281\, United States
ORGANIZER;CN="Main Street Wadsworth":MAILTO:mharvey@mainstreetwadsworth.org
END:VEVENT
BEGIN:VEVENT
DTSTART;TZID=America/New_York:20240831T090000
DTEND;TZID=America/New_York:20240831T120000
DTSTAMP:20260423T153433
CREATED:20240723T220137Z
LAST-MODIFIED:20240723T220140Z
UID:173712-1725094800-1725105600@mainstreetwadsworth.org
SUMMARY:Main Street Wadsworth Farmers Market
DESCRIPTION:The Farmers Market season will run every Saturday\, June 15 – September 28\, 9:00 a.m. to noon. Enjoy locally grown\, made\, and produced items. Always fresh. Always brought to market by our talented and dedicated vendors.
URL:https://mainstreetwadsworth.org/event/main-street-wadsworth-farmers-market-21/
LOCATION:MSW Farmers Market\, 151 Main Street\, Wadsworth\, Ohio\, 44281\, United States
ORGANIZER;CN="Main Street Wadsworth":MAILTO:mharvey@mainstreetwadsworth.org
END:VEVENT
BEGIN:VEVENT
DTSTART;TZID=America/New_York:20240827T120000
DTEND;TZID=America/New_York:20240827T130000
DTSTAMP:20260423T153433
CREATED:20240723T211857Z
LAST-MODIFIED:20240723T211901Z
UID:173655-1724760000-1724763600@mainstreetwadsworth.org
SUMMARY:Main Street Wadsworth August Organization Committee Meeting
DESCRIPTION:Main Street Wadsworth August Organization Committee MeetingTuesday\, August 27\, 2024 at 12:00 p.m.https://us02web.zoom.us/j/86418584653 \n\n\n\nMain Street Wadsworth monthly organization committee meetings are open to the public. We invite the community to get involved in our mission to create an unmatched downtown experience by volunteering for events or for one of our Four-Point Teams: Design\, Economic Vitality\, Promotion\, and Organization. \n\n\n\nLearn more: www.mainstreetwadsworth.org
URL:https://mainstreetwadsworth.org/event/main-street-wadsworth-august-organization-committee-meeting/
LOCATION:OH
ORGANIZER;CN="Main Street Wadsworth":MAILTO:mharvey@mainstreetwadsworth.org
END:VEVENT
BEGIN:VEVENT
DTSTART;TZID=America/New_York:20240826T150000
DTEND;TZID=America/New_York:20240826T160000
DTSTAMP:20260423T153433
CREATED:20240723T211738Z
LAST-MODIFIED:20240723T211741Z
UID:173653-1724684400-1724688000@mainstreetwadsworth.org
SUMMARY:Main Street Wadsworth August Economic Vitality Committee Meeting
DESCRIPTION:Main Street Wadsworth August Economic Vitality Committee MeetingMonday\, August 26\, 2024 at 3:00 p.m. \n\n\n\nMain Street Wadsworth monthly economic vitality committee meetings are open to the public. We invite the community to get involved in our mission to create an unmatched downtown experience by volunteering for events or for one of our Four-Point Teams: Design\, Economic Vitality\, Promotion\, and Organization. \n\n\n\nLearn more: www.mainstreetwadsworth.org
URL:https://mainstreetwadsworth.org/event/main-street-wadsworth-august-economic-vitality-committee-meeting/
LOCATION:Main Street Wadsworth\, 102 Main Street\, Suite 20\, Wadsworth\, OH\, 44281\, United States
ORGANIZER;CN="Main Street Wadsworth":MAILTO:mharvey@mainstreetwadsworth.org
END:VEVENT
BEGIN:VEVENT
DTSTART;TZID=America/New_York:20240824T090000
DTEND;TZID=America/New_York:20240824T120000
DTSTAMP:20260423T153433
CREATED:20240723T215745Z
LAST-MODIFIED:20240723T215748Z
UID:173707-1724490000-1724500800@mainstreetwadsworth.org
SUMMARY:Main Street Wadsworth Farmers Market
DESCRIPTION:The Farmers Market season will run every Saturday\, June 15 – September 28\, 9:00 a.m. to noon. Enjoy locally grown\, made\, and produced items. Always fresh. Always brought to market by our talented and dedicated vendors.
URL:https://mainstreetwadsworth.org/event/main-street-wadsworth-farmers-market-20/
LOCATION:MSW Farmers Market\, 151 Main Street\, Wadsworth\, Ohio\, 44281\, United States
ORGANIZER;CN="Main Street Wadsworth":MAILTO:mharvey@mainstreetwadsworth.org
END:VEVENT
BEGIN:VEVENT
DTSTART;TZID=America/New_York:20240817T090000
DTEND;TZID=America/New_York:20240817T120000
DTSTAMP:20260423T153433
CREATED:20240723T215656Z
LAST-MODIFIED:20240723T215659Z
UID:173705-1723885200-1723896000@mainstreetwadsworth.org
SUMMARY:Main Street Wadsworth Farmers Market
DESCRIPTION:The Farmers Market season will run every Saturday\, June 15 – September 28\, 9:00 a.m. to noon. Enjoy locally grown\, made\, and produced items. Always fresh. Always brought to market by our talented and dedicated vendors.
URL:https://mainstreetwadsworth.org/event/main-street-wadsworth-farmers-market-19/
LOCATION:MSW Farmers Market\, 151 Main Street\, Wadsworth\, Ohio\, 44281\, United States
ORGANIZER;CN="Main Street Wadsworth":MAILTO:mharvey@mainstreetwadsworth.org
END:VEVENT
BEGIN:VEVENT
DTSTART;TZID=America/New_York:20240813T120000
DTEND;TZID=America/New_York:20240813T130000
DTSTAMP:20260423T153433
CREATED:20240723T211528Z
LAST-MODIFIED:20240723T211535Z
UID:173651-1723550400-1723554000@mainstreetwadsworth.org
SUMMARY:Main Street Wadsworth August Board of Directors Meeting
DESCRIPTION:Main Street Wadsworth August Board of Directors MeetingTuesday\, August 13\, 2024 at 12:00 p.m. \n\n\n\nMain Street Wadsworth monthly Board of Directors meetings are open to the public. We invite the community to get involved in our mission to create an unmatched downtown experience by volunteering for events or for one of our Four-Point Teams: Design\, Economic Vitality\, Promotion\, and Organization. \n\n\n\nLearn more: www.mainstreetwadsworth.org
URL:https://mainstreetwadsworth.org/event/main-street-wadsworth-august-board-of-directors-meeting/
LOCATION:Main Street Wadsworth\, 102 Main Street\, Suite 20\, Wadsworth\, OH\, 44281\, United States
ORGANIZER;CN="Main Street Wadsworth":MAILTO:mharvey@mainstreetwadsworth.org
END:VEVENT
BEGIN:VEVENT
DTSTART;TZID=America/New_York:20240810T090000
DTEND;TZID=America/New_York:20240810T120000
DTSTAMP:20260423T153433
CREATED:20240723T215549Z
LAST-MODIFIED:20240723T215552Z
UID:173703-1723280400-1723291200@mainstreetwadsworth.org
SUMMARY:Main Street Wadsworth Farmers Market
DESCRIPTION:The Farmers Market season will run every Saturday\, June 15 – September 28\, 9:00 a.m. to noon. Enjoy locally grown\, made\, and produced items. Always fresh. Always brought to market by our talented and dedicated vendors.
URL:https://mainstreetwadsworth.org/event/main-street-wadsworth-farmers-market-18/
LOCATION:MSW Farmers Market\, 151 Main Street\, Wadsworth\, Ohio\, 44281\, United States
ORGANIZER;CN="Main Street Wadsworth":MAILTO:mharvey@mainstreetwadsworth.org
END:VEVENT
BEGIN:VEVENT
DTSTART;TZID=America/New_York:20240807T120000
DTEND;TZID=America/New_York:20240807T130000
DTSTAMP:20260423T153433
CREATED:20240723T211422Z
LAST-MODIFIED:20240723T211425Z
UID:173649-1723032000-1723035600@mainstreetwadsworth.org
SUMMARY:Main Street Wadsworth August Promotion Committee Meeting
DESCRIPTION:Main Street Wadsworth August Promotion Committee MeetingWednesday\, August 7\, 2024 at 12:00 p.m. \n\n\n\nMain Street Wadsworth monthly promotions committee meetings are open to the public. We invite the community to get involved in our mission to create an unmatched downtown experience by volunteering for events or for one of our Four-Point Teams: Design\, Economic Vitality\, Promotion\, and Organization. \n\n\n\nLearn more: www.mainstreetwadsworth.org
URL:https://mainstreetwadsworth.org/event/main-street-wadsworth-august-promotion-committee-meeting/
LOCATION:Main Street Wadsworth\, 102 Main Street\, Suite 20\, Wadsworth\, OH\, 44281\, United States
ORGANIZER;CN="Main Street Wadsworth":MAILTO:mharvey@mainstreetwadsworth.org
END:VEVENT
BEGIN:VEVENT
DTSTART;TZID=America/New_York:20240806T120000
DTEND;TZID=America/New_York:20240806T130000
DTSTAMP:20260423T153433
CREATED:20240723T211315Z
LAST-MODIFIED:20240723T211319Z
UID:173647-1722945600-1722949200@mainstreetwadsworth.org
SUMMARY:Main Street Wadsworth August Design Committee Meeting
DESCRIPTION:Main Street Wadsworth August Design Committee MeetingTuesday\, August 6\, 2024 at 12:00 p.m.Main Street Wadsworth\, 102 Main St. Ste. 20\, Wadsworth\, OH 44281 \n\n\n\nMain Street Wadsworth monthly design committee meetings are open to the public. Downtown meeting locations are subject to change and Zoom options are available upon request. We invite the community to get involved in our mission to create an unmatched downtown experience by volunteering for events or for one of our Four-Point Teams: Design\, Economic Vitality\, Promotion\, and Organization. \n\n\n\nLearn more: www.mainstreetwadsworth.org 
URL:https://mainstreetwadsworth.org/event/main-street-wadsworth-august-design-committee-meeting/
LOCATION:Main Street Wadsworth\, 102 Main Street\, Suite 20\, Wadsworth\, OH\, 44281\, United States
ORGANIZER;CN="Main Street Wadsworth":MAILTO:mharvey@mainstreetwadsworth.org
END:VEVENT
BEGIN:VEVENT
DTSTART;TZID=America/New_York:20240803T090000
DTEND;TZID=America/New_York:20240803T120000
DTSTAMP:20260423T153433
CREATED:20240723T215505Z
LAST-MODIFIED:20240723T215508Z
UID:173701-1722675600-1722686400@mainstreetwadsworth.org
SUMMARY:Main Street Wadsworth Farmers Market
DESCRIPTION:The Farmers Market season will run every Saturday\, June 15 – September 28\, 9:00 a.m. to noon. Enjoy locally grown\, made\, and produced items. Always fresh. Always brought to market by our talented and dedicated vendors.
URL:https://mainstreetwadsworth.org/event/main-street-wadsworth-farmers-market-17/
LOCATION:MSW Farmers Market\, 151 Main Street\, Wadsworth\, Ohio\, 44281\, United States
ORGANIZER;CN="Main Street Wadsworth":MAILTO:mharvey@mainstreetwadsworth.org
END:VEVENT
BEGIN:VEVENT
DTSTART;TZID=America/New_York:20240802T173000
DTEND;TZID=America/New_York:20240802T200000
DTSTAMP:20260423T153433
CREATED:20240723T211055Z
LAST-MODIFIED:20240723T211100Z
UID:173645-1722619800-1722628800@mainstreetwadsworth.org
SUMMARY:August First Friday: Back to School Featuring The American Legion Pig Roast
DESCRIPTION:Join us on August 2\, 5:30-8:00 p.m. as we celebrate going back to school in downtown Wadsworth! \n\n\n\nThis event will feature the American Legion Post 170 pig roast.
URL:https://mainstreetwadsworth.org/event/august-first-friday-back-to-school-featuring-the-american-legion-pig-roast/
LOCATION:Main Street Wadsworth\, 102 Main Street\, Suite 20\, Wadsworth\, OH\, 44281\, United States
ORGANIZER;CN="Main Street Wadsworth":MAILTO:mharvey@mainstreetwadsworth.org
END:VEVENT
BEGIN:VEVENT
DTSTART;TZID=America/New_York:20240730T120000
DTEND;TZID=America/New_York:20240730T130000
DTSTAMP:20260423T153433
CREATED:20240723T210829Z
LAST-MODIFIED:20240723T210832Z
UID:173642-1722340800-1722344400@mainstreetwadsworth.org
SUMMARY:Main Street Wadsworth July Organization Committee Meeting
DESCRIPTION:Main Street Wadsworth July Organization Committee MeetingTuesday\, July 30\, 2024 at 12:00 p.m.https://us02web.zoom.us/j/86418584653 \n\n\n\nMain Street Wadsworth monthly organization committee meetings are open to the public. We invite the community to get involved in our mission to create an unmatched downtown experience by volunteering for events or for one of our Four-Point Teams: Design\, Economic Vitality\, Promotion\, and Organization. \n\n\n\nLearn more: www.mainstreetwadsworth.org
URL:https://mainstreetwadsworth.org/event/main-street-wadsworth-july-organization-committee-meeting/
LOCATION:OH
END:VEVENT
BEGIN:VEVENT
DTSTART;TZID=America/New_York:20240727T090000
DTEND;TZID=America/New_York:20240727T120000
DTSTAMP:20260423T153433
CREATED:20240723T215406Z
LAST-MODIFIED:20240723T215409Z
UID:173699-1722070800-1722081600@mainstreetwadsworth.org
SUMMARY:Main Street Wadsworth Farmers Market
DESCRIPTION:The Farmers Market season will run every Saturday\, June 15 – September 28\, 9:00 a.m. to noon. Enjoy locally grown\, made\, and produced items. Always fresh. Always brought to market by our talented and dedicated vendors.
URL:https://mainstreetwadsworth.org/event/main-street-wadsworth-farmers-market-16/
LOCATION:MSW Farmers Market\, 151 Main Street\, Wadsworth\, Ohio\, 44281\, United States
ORGANIZER;CN="Main Street Wadsworth":MAILTO:mharvey@mainstreetwadsworth.org
END:VEVENT
BEGIN:VEVENT
DTSTART;TZID=America/New_York:20240725T140000
DTEND;TZID=America/New_York:20240725T160000
DTSTAMP:20260423T153433
CREATED:20240723T210140Z
LAST-MODIFIED:20240723T210145Z
UID:173638-1721916000-1721923200@mainstreetwadsworth.org
SUMMARY:Main Street Wadsworth 2025 Promotions Events Meeting
DESCRIPTION:Main Street Wadsworth 2025 Promotion Events MeetingThursday\, July 25\, 2024 at 2:00 p.m. \n\n\n\nLove to plan events? Have a great theme idea for First Fridays? Attend the Main Street Wadsworth 2025 Promotions Event Meeting on July 25. We invite the community to get involved in our mission to create an unmatched downtown experience by volunteering for events or for one of our Four-Point Teams: Design\, Economic Vitality\, Promotion\, and Organization. \n\n\n\nLearn more: www.mainstreetwadsworth.org
URL:https://mainstreetwadsworth.org/event/main-street-wadsworth-2025-promotions-events-meeting/
LOCATION:Main Street Wadsworth\, 102 Main Street\, Suite 20\, Wadsworth\, OH\, 44281\, United States
END:VEVENT
BEGIN:VEVENT
DTSTART;TZID=America/New_York:20240607T173000
DTEND;TZID=America/New_York:20240607T200000
DTSTAMP:20260423T153433
CREATED:20240603T211705Z
LAST-MODIFIED:20240603T211905Z
UID:173624-1717781400-1717790400@mainstreetwadsworth.org
SUMMARY:June First Friday: Celebrate Our Safety Forces
DESCRIPTION:Wadsworth First Friday is a fun\, family-friendly\, and free community event the first Friday of every month 5:30-8:00 p.m. in downtown Wadsworth! Over 20 small businesses are open for food\, shopping\, and entertainment! \n\n\n\nOur downtown revitalization non-profit chooses the theme\, coordinates downtown small business participation\, and oversees programming during the event. Volunteer for downtown events by e-mailing mharvey@mainstreetwadsworth.org!
URL:https://mainstreetwadsworth.org/event/june-first-friday/
LOCATION:OH
END:VEVENT
BEGIN:VEVENT
DTSTART;TZID=America/New_York:20231201T173000
DTEND;TZID=America/New_York:20231201T200000
DTSTAMP:20260423T153433
CREATED:20230306T222616Z
LAST-MODIFIED:20230306T222619Z
UID:173448-1701451800-1701460800@mainstreetwadsworth.org
SUMMARY:December First Friday: Miracle on Main Street
DESCRIPTION:
URL:https://mainstreetwadsworth.org/event/december-first-friday-miracle-on-main-street/
LOCATION:OH
END:VEVENT
BEGIN:VEVENT
DTSTART;TZID=America/New_York:20231125T100000
DTEND;TZID=America/New_York:20231125T190000
DTSTAMP:20260423T153433
CREATED:20230306T222541Z
LAST-MODIFIED:20230306T222544Z
UID:173446-1700906400-1700938800@mainstreetwadsworth.org
SUMMARY:Small Business Saturday presented by AMEX
DESCRIPTION:
URL:https://mainstreetwadsworth.org/event/small-business-saturday-presented-by-amex/
LOCATION:OH
END:VEVENT
BEGIN:VEVENT
DTSTART;TZID=America/New_York:20231117T173000
DTEND;TZID=America/New_York:20231117T200000
DTSTAMP:20260423T153433
CREATED:20230306T222502Z
LAST-MODIFIED:20230306T222505Z
UID:173444-1700242200-1700251200@mainstreetwadsworth.org
SUMMARY:Candlelight Walk
DESCRIPTION:
URL:https://mainstreetwadsworth.org/event/candlelight-walk/
LOCATION:OH
END:VEVENT
BEGIN:VEVENT
DTSTART;TZID=America/New_York:20231103T173000
DTEND;TZID=America/New_York:20231103T200000
DTSTAMP:20260423T153433
CREATED:20230306T222005Z
LAST-MODIFIED:20230306T222008Z
UID:173442-1699032600-1699041600@mainstreetwadsworth.org
SUMMARY:November First Friday: Bluegrass & Lumberjacks
DESCRIPTION:
URL:https://mainstreetwadsworth.org/event/november-first-friday-bluegrass-lumberjacks/
LOCATION:OH
END:VEVENT
BEGIN:VEVENT
DTSTART;TZID=America/New_York:20231019T170000
DTEND;TZID=America/New_York:20231019T200000
DTSTAMP:20260423T153433
CREATED:20230306T221859Z
LAST-MODIFIED:20230306T221902Z
UID:173440-1697734800-1697745600@mainstreetwadsworth.org
SUMMARY:Scare on the Square featuring Wadsworth Thriller
DESCRIPTION:
URL:https://mainstreetwadsworth.org/event/scare-on-the-square-featuring-wadsworth-thriller/
LOCATION:OH
END:VEVENT
END:VCALENDAR